BEGIN:VCALENDAR
VERSION:2.0
PRODID:-//Islamic Association of Raleigh - ECPv6.2.9//NONSGML v1.0//EN
CALSCALE:GREGORIAN
METHOD:PUBLISH
X-ORIGINAL-URL:https://raleighmasjid.org
X-WR-CALDESC:Events for Islamic Association of Raleigh
REFRESH-INTERVAL;VALUE=DURATION:PT1H
X-Robots-Tag:noindex
X-PUBLISHED-TTL:PT1H
BEGIN:VTIMEZONE
TZID:America/New_York
BEGIN:DAYLIGHT
TZOFFSETFROM:-0500
TZOFFSETTO:-0400
TZNAME:EDT
DTSTART:20220313T070000
END:DAYLIGHT
BEGIN:STANDARD
TZOFFSETFROM:-0400
TZOFFSETTO:-0500
TZNAME:EST
DTSTART:20221106T060000
END:STANDARD
END:VTIMEZONE
BEGIN:VEVENT
DTSTART;TZID=America/New_York:20220407T223000
DTEND;TZID=America/New_York:20220408T000000
DTSTAMP:20260420T190214
CREATED:20220404T233900Z
LAST-MODIFIED:20220405T023907Z
UID:10002500-1649370600-1649376000@raleighmasjid.org
SUMMARY:Coffee Convo Ep. 1
DESCRIPTION:The IAR is thrilled to invite young professionals and college students to attend Ep 1 of ‘Coffee Convos’: a platform for community-building and discussing contemporary conversations over coffee! Come out this Thursday\, April 7th\, after 8 Rakaat of Taraweeh to Al-Maidah Cafe! \nRegister here!
URL:https://raleighmasjid.org/event/coffee-convo-ep-1/
LOCATION:Islamic Association of Raleigh\, 808 Atwater St\, Raleigh\, NC\, 27607\, United States
ATTACH;FMTTYPE=image/jpeg:https://raleighmasjid.org/wp-content/uploads/2022/04/coffee-chats.jpg
END:VEVENT
BEGIN:VEVENT
DTSTART;TZID=America/New_York:20220408T224500
DTEND;TZID=America/New_York:20220409T060000
DTSTAMP:20260420T190214
CREATED:20220405T031520Z
LAST-MODIFIED:20220406T221058Z
UID:10002501-1649457900-1649484000@raleighmasjid.org
SUMMARY:Elem/Middle School Boys Overnight
DESCRIPTION:Program includes food\, sports\, activities\, Islamic reminder\, Qiyaam\, and Suhoor. \nREGISTER HERE
URL:https://raleighmasjid.org/event/elem-middle-school-boys-overnight/
LOCATION:Islamic Association of Raleigh\, 808 Atwater St\, Raleigh\, NC\, 27607\, United States
CATEGORIES:Youth
ATTACH;FMTTYPE=image/jpeg:https://raleighmasjid.org/wp-content/uploads/2022/04/Itikaaf-2022.jpg
END:VEVENT
BEGIN:VEVENT
DTSTART;TZID=America/New_York:20220408T224500
DTEND;TZID=America/New_York:20220409T060000
DTSTAMP:20260420T190214
CREATED:20220406T215900Z
LAST-MODIFIED:20220406T221116Z
UID:10002504-1649457900-1649484000@raleighmasjid.org
SUMMARY:High School Boys Overnight
DESCRIPTION:Program includes food\, sports\, activities\, Islamic reminder\, Qiyaam\, and Suhoor. \nREGISTER HERE
URL:https://raleighmasjid.org/event/high-school-boys-overnight/
LOCATION:Islamic Association of Raleigh\, 808 Atwater St\, Raleigh\, NC\, 27607\, United States
CATEGORIES:Youth
ATTACH;FMTTYPE=image/jpeg:https://raleighmasjid.org/wp-content/uploads/2022/04/Itikaaf-2022.jpg
END:VEVENT
BEGIN:VEVENT
DTSTART;TZID=America/New_York:20220409T133000
DTEND;TZID=America/New_York:20220409T163000
DTSTAMP:20260420T190214
CREATED:20210706T212026Z
LAST-MODIFIED:20230117T043128Z
UID:10003071-1649511000-1649521800@raleighmasjid.org
SUMMARY:Elementary & Middle School Boys Saturday Program
DESCRIPTION:Audience: Elementary & Middle School Boys \nTiming: Saturdays at 2 PM \nRegistration & Contact: Mahen Khan – mahenmkhan@gmail.com
URL:https://raleighmasjid.org/event/elementary-middle-school-boys-saturday-program/2022-04-09/
LOCATION:Islamic Association of Raleigh\, 808 Atwater St\, Raleigh\, NC\, 27607\, United States
CATEGORIES:Educational,Social,Youth
ATTACH;FMTTYPE=image/jpeg:https://raleighmasjid.org/wp-content/uploads/2021/07/youth-activity.jpg
END:VEVENT
BEGIN:VEVENT
DTSTART;TZID=America/New_York:20220409T190000
DTEND;TZID=America/New_York:20220409T230000
DTSTAMP:20260420T190214
CREATED:20210706T211831Z
LAST-MODIFIED:20230117T042437Z
UID:10003318-1649530800-1649545200@raleighmasjid.org
SUMMARY:High School Boys' Night
DESCRIPTION:High school brothers are invited to join their fellow youth for a weekly hangout featuring sports\, video games\, and an uplifting reminder followed by dinner. This program is an opportunity for youth to connect with friends\, mentors\, and participate in spiritually-uplifting discussions guided by Imam Muamar Dahnoun and others. \nAudience: Brothers 13 years old & above \nTiming: Saturdays from 7-11 PM \nContact: programs@iaryouth.org\, Muhammad Samara (muhammad.samara@islam1.org)\, & Ahmad Haddad (ajhaddad00@gmail.com)
URL:https://raleighmasjid.org/event/brothers-high-school-halaqah-2021-01-09/2022-04-09/
LOCATION:Islamic Association of Raleigh\, 808 Atwater St\, Raleigh\, NC\, 27607\, United States
CATEGORIES:Educational,Social,Youth
END:VEVENT
BEGIN:VEVENT
DTSTART;TZID=America/New_York:20220409T223000
DTEND;TZID=America/New_York:20220410T060000
DTSTAMP:20260420T190214
CREATED:20220405T032252Z
LAST-MODIFIED:20220406T221045Z
UID:10002502-1649543400-1649570400@raleighmasjid.org
SUMMARY:Middle School Girls Overnight
DESCRIPTION:Program includes activities\, Islamic reminder\, Qiyaam\, and Suhoor. \nPlease register here.
URL:https://raleighmasjid.org/event/middle-school-girls-overnight/
LOCATION:Islamic Association of Raleigh\, 808 Atwater St\, Raleigh\, NC\, 27607\, United States
CATEGORIES:Youth
ATTACH;FMTTYPE=image/jpeg:https://raleighmasjid.org/wp-content/uploads/2022/04/Itikaaf-2022.jpg
END:VEVENT
BEGIN:VEVENT
DTSTART;TZID=America/New_York:20220410T100000
DTEND;TZID=America/New_York:20220410T150000
DTSTAMP:20260420T190214
CREATED:20220404T233013Z
LAST-MODIFIED:20220404T233013Z
UID:10002499-1649584800-1649602800@raleighmasjid.org
SUMMARY:TAMAM Toy Drive 2022
DESCRIPTION:Toy drive benefits local underprivileged Muslim children and all patients at UNC Children’s Hospital. \nToys need to be new\, unwrapped & worth $25 or more. No potentially injury-causing toys (play guns/nerf\, knives\, etc)
URL:https://raleighmasjid.org/event/tamam-toy-drive-2022/
LOCATION:Islamic Association of Raleigh\, 808 Atwater St\, Raleigh\, NC\, 27607\, United States
ATTACH;FMTTYPE=image/jpeg:https://raleighmasjid.org/wp-content/uploads/2022/04/2022-Tamam-toy-drive-flyer-1-1.jpg
END:VEVENT
BEGIN:VEVENT
DTSTART;TZID=America/New_York:20220410T140000
DTEND;TZID=America/New_York:20220410T150000
DTSTAMP:20260420T190214
CREATED:20210706T213105Z
LAST-MODIFIED:20230117T042152Z
UID:10002576-1649599200-1649602800@raleighmasjid.org
SUMMARY:Introduction to Islam
DESCRIPTION:Learn about Islam online from the comfort of your home! \nDue to COVID-19\, we’re now holding online classes instead of the in-person class. We invite you to participate live either on Zoom (fill out form to get the zoom link)\, YouTube\, or Facebook every Sunday from 2-3 PM\, and you may send in your questions on the live chat. \nThis informal class is intended for non-Muslims but Muslims are highly encouraged to attend with their non-Muslim guests. The class introduces non-Muslims to the basic articles of Islam and focuses on topics that are brought up by the participants. \nOnly main issues of the faith are discussed. Any questions about Islamic law (fiqh) are forwarded to the Imams of the Islamic Center of Raleigh who are better equipped to answer those questions. \nIf you have questions\, please contact the IAR Outreach Committee at outreach@islam1.org. \nIf you request a visit and this is your first time visiting the Islamic Center of Raleigh\, here are some pointers on visiting a mosque: \n\nMen and Women are expected to wear modest\, loose-fitting clothes. Muslim women typically wear a headscarf as well.\nTake off shoes before entering the prayer area at a mosque\nPut phones on silent while prayer services are being offered\nTake conversations outside the prayer hall to avoid distracting those who are praying\nPlease be aware that many Muslims do not shake hands with anyone of the opposite gender. That is\, men do not shake hands with women\, and women do not shake hands with men. Unless he/she extends his/her hand first\, it is better to not extend yours.\n\nWe are extremely delighted that you are interested in learning more about Islam. We pray to Allah to open your heart and to make it easy for you to understand Islam.
URL:https://raleighmasjid.org/event/introduction-to-islam/2022-04-10/
LOCATION:Online Registration
CATEGORIES:Educational,Outreach/Dawah,Religious
END:VEVENT
END:VCALENDAR