BEGIN:VCALENDAR
VERSION:2.0
PRODID:-//Islamic Association of Raleigh - ECPv6.2.9//NONSGML v1.0//EN
CALSCALE:GREGORIAN
METHOD:PUBLISH
X-WR-CALNAME:Islamic Association of Raleigh
X-ORIGINAL-URL:https://raleighmasjid.org
X-WR-CALDESC:Events for Islamic Association of Raleigh
REFRESH-INTERVAL;VALUE=DURATION:PT1H
X-Robots-Tag:noindex
X-PUBLISHED-TTL:PT1H
BEGIN:VTIMEZONE
TZID:America/New_York
BEGIN:DAYLIGHT
TZOFFSETFROM:-0500
TZOFFSETTO:-0400
TZNAME:EDT
DTSTART:20230312T070000
END:DAYLIGHT
BEGIN:STANDARD
TZOFFSETFROM:-0400
TZOFFSETTO:-0500
TZNAME:EST
DTSTART:20231105T060000
END:STANDARD
END:VTIMEZONE
BEGIN:VEVENT
DTSTART;TZID=America/New_York:20230218T140000
DTEND;TZID=America/New_York:20230218T160000
DTSTAMP:20260422T214911
CREATED:20230216T014523Z
LAST-MODIFIED:20230216T021427Z
UID:10005552-1676728800-1676736000@raleighmasjid.org
SUMMARY:Python for Teens
DESCRIPTION:Teens are invited to join a 3-week Python workshop taught by young programmers. Students will learn the basics of Python and develop a desktop app using Runestone. This class will be held on Saturday\, Feb 18\, 25\, and March 4 from 2:00 – 4:00 PM. The cost to attend is $10.
URL:https://raleighmasjid.org/event/python-for-teens/2023-02-18/
LOCATION:Islamic Association of Raleigh\, 808 Atwater St\, Raleigh\, NC\, 27607\, United States
CATEGORIES:Educational,Recreation,Youth
ATTACH;FMTTYPE=image/jpeg:https://raleighmasjid.org/wp-content/uploads/2023/02/Python-For-Teens.jpg
END:VEVENT
END:VCALENDAR