BEGIN:VCALENDAR
VERSION:2.0
PRODID:-//Islamic Association of Raleigh - ECPv6.2.9//NONSGML v1.0//EN
CALSCALE:GREGORIAN
METHOD:PUBLISH
X-WR-CALNAME:Islamic Association of Raleigh
X-ORIGINAL-URL:https://raleighmasjid.org
X-WR-CALDESC:Events for Islamic Association of Raleigh
REFRESH-INTERVAL;VALUE=DURATION:PT1H
X-Robots-Tag:noindex
X-PUBLISHED-TTL:PT1H
BEGIN:VTIMEZONE
TZID:America/New_York
BEGIN:DAYLIGHT
TZOFFSETFROM:-0500
TZOFFSETTO:-0400
TZNAME:EDT
DTSTART:20220313T070000
END:DAYLIGHT
BEGIN:STANDARD
TZOFFSETFROM:-0400
TZOFFSETTO:-0500
TZNAME:EST
DTSTART:20221106T060000
END:STANDARD
END:VTIMEZONE
BEGIN:VEVENT
DTSTART;TZID=America/New_York:20221105T100000
DTEND;TZID=America/New_York:20221105T130000
DTSTAMP:20260424T003618
CREATED:20220915T131249Z
LAST-MODIFIED:20230117T044717Z
UID:10004980-1667642400-1667653200@raleighmasjid.org
SUMMARY:Al-Iman Quran Memorization Program
DESCRIPTION:Saturday Quran memorization program for children\nHeld at Al-Iman School on the 3rd floor\nFor registration and payment info\, visit alimanschool.org
URL:https://raleighmasjid.org/event/al-iman-quran-memorization-program/2022-11-05/
LOCATION:Islamic Association of Raleigh\, 808 Atwater St\, Raleigh\, NC\, 27607\, United States
CATEGORIES:Community,Educational,Religious,Youth
ATTACH;FMTTYPE=image/jpeg:https://raleighmasjid.org/wp-content/uploads/2022/09/quran-image.jpg
END:VEVENT
BEGIN:VEVENT
DTSTART;TZID=America/New_York:20221105T110000
DTEND;TZID=America/New_York:20221105T140000
DTSTAMP:20260424T003618
CREATED:20220907T202954Z
LAST-MODIFIED:20220907T202954Z
UID:10003994-1667646000-1667656800@raleighmasjid.org
SUMMARY:Meal Pack with IRUSA and NCSU MSA
DESCRIPTION:Join IRUSA\, IAR\, and the NC State MSA to pack meals for the hungry on Saturday\, November 5th from 11 AM to 2 PM at the IAR gymnasium!
URL:https://raleighmasjid.org/event/meal-pack-with-irusa-and-ncsu-msa/
LOCATION:Islamic Association of Raleigh\, 808 Atwater St\, Raleigh\, NC\, 27607\, United States
CATEGORIES:Community,Volunteer & Engagement
ATTACH;FMTTYPE=image/jpeg:https://raleighmasjid.org/wp-content/uploads/2022/09/2021_MealPack_Raleigh-NC.jpg
END:VEVENT
END:VCALENDAR