BEGIN:VCALENDAR
VERSION:2.0
PRODID:-//Islamic Association of Raleigh - ECPv6.2.9//NONSGML v1.0//EN
CALSCALE:GREGORIAN
METHOD:PUBLISH
X-WR-CALNAME:Islamic Association of Raleigh
X-ORIGINAL-URL:https://raleighmasjid.org
X-WR-CALDESC:Events for Islamic Association of Raleigh
REFRESH-INTERVAL;VALUE=DURATION:PT1H
X-Robots-Tag:noindex
X-PUBLISHED-TTL:PT1H
BEGIN:VTIMEZONE
TZID:America/New_York
BEGIN:DAYLIGHT
TZOFFSETFROM:-0500
TZOFFSETTO:-0400
TZNAME:EDT
DTSTART:20220313T070000
END:DAYLIGHT
BEGIN:STANDARD
TZOFFSETFROM:-0400
TZOFFSETTO:-0500
TZNAME:EST
DTSTART:20221106T060000
END:STANDARD
END:VTIMEZONE
BEGIN:VEVENT
DTSTART;TZID=America/New_York:20221015T100000
DTEND;TZID=America/New_York:20221015T130000
DTSTAMP:20260424T022305
CREATED:20220915T131249Z
LAST-MODIFIED:20230117T044717Z
UID:10004977-1665828000-1665838800@raleighmasjid.org
SUMMARY:Al-Iman Quran Memorization Program
DESCRIPTION:Saturday Quran memorization program for children\nHeld at Al-Iman School on the 3rd floor\nFor registration and payment info\, visit alimanschool.org
URL:https://raleighmasjid.org/event/al-iman-quran-memorization-program/2022-10-15/
LOCATION:Islamic Association of Raleigh\, 808 Atwater St\, Raleigh\, NC\, 27607\, United States
CATEGORIES:Community,Educational,Religious,Youth
ATTACH;FMTTYPE=image/jpeg:https://raleighmasjid.org/wp-content/uploads/2022/09/quran-image.jpg
END:VEVENT
BEGIN:VEVENT
DTSTART;TZID=America/New_York:20221015T150000
DTEND;TZID=America/New_York:20221015T170000
DTSTAMP:20260424T022305
CREATED:20221010T000543Z
LAST-MODIFIED:20221010T003731Z
UID:10004962-1665846000-1665853200@raleighmasjid.org
SUMMARY:Art Musuem Hangout - Young Professionals
DESCRIPTION:Project Phoenix presents a trip to the NC Museum of Art for young professionals 25 and older this Saturday\, Oct. 15\, from 3-5 PM! Come hangout as you enjoy and reflect upon art and connect it back to our deen. This event is open to families\, so we highly encourage you all to come with your family and friends!
URL:https://raleighmasjid.org/event/art-musuem-hangout-young-professionals/
LOCATION:NC
CATEGORIES:Community
ATTACH;FMTTYPE=image/jpeg:https://raleighmasjid.org/wp-content/uploads/2022/10/rise-art-musuem-retreat-1.jpg
END:VEVENT
END:VCALENDAR