BEGIN:VCALENDAR
VERSION:2.0
PRODID:-//Islamic Association of Raleigh - ECPv6.2.9//NONSGML v1.0//EN
CALSCALE:GREGORIAN
METHOD:PUBLISH
X-ORIGINAL-URL:https://raleighmasjid.org
X-WR-CALDESC:Events for Islamic Association of Raleigh
REFRESH-INTERVAL;VALUE=DURATION:PT1H
X-Robots-Tag:noindex
X-PUBLISHED-TTL:PT1H
BEGIN:VTIMEZONE
TZID:America/New_York
BEGIN:DAYLIGHT
TZOFFSETFROM:-0500
TZOFFSETTO:-0400
TZNAME:EDT
DTSTART:20220313T070000
END:DAYLIGHT
BEGIN:STANDARD
TZOFFSETFROM:-0400
TZOFFSETTO:-0500
TZNAME:EST
DTSTART:20221106T060000
END:STANDARD
END:VTIMEZONE
BEGIN:VEVENT
DTSTART;TZID=America/New_York:20220901T194500
DTEND;TZID=America/New_York:20220902T213000
DTSTAMP:20260423T181133
CREATED:20220901T125720Z
LAST-MODIFIED:20220901T131456Z
UID:10005133-1662061500-1662154200@raleighmasjid.org
SUMMARY:How to Read & Memorize Quran - FNP
DESCRIPTION:Join us this Friday\, September 2nd at 7:45 PM for a special workshop led by Imam Badawy! Learn how to make your memorization of Quran as sharp as your memorization of Surah Al-Fatihah.
URL:https://raleighmasjid.org/event/how-to-read-memorize-quran-fnp/
LOCATION:Islamic Association of Raleigh\, 808 Atwater St\, Raleigh\, NC\, 27607\, United States
CATEGORIES:Community,Religious
ATTACH;FMTTYPE=image/jpeg:https://raleighmasjid.org/wp-content/uploads/2022/09/quran-fnp-1.jpg
END:VEVENT
END:VCALENDAR