BEGIN:VCALENDAR
VERSION:2.0
PRODID:-//Islamic Association of Raleigh - ECPv6.2.9//NONSGML v1.0//EN
CALSCALE:GREGORIAN
METHOD:PUBLISH
X-ORIGINAL-URL:https://raleighmasjid.org
X-WR-CALDESC:Events for Islamic Association of Raleigh
REFRESH-INTERVAL;VALUE=DURATION:PT1H
X-Robots-Tag:noindex
X-PUBLISHED-TTL:PT1H
BEGIN:VTIMEZONE
TZID:America/New_York
BEGIN:DAYLIGHT
TZOFFSETFROM:-0500
TZOFFSETTO:-0400
TZNAME:EDT
DTSTART:20210314T070000
END:DAYLIGHT
BEGIN:STANDARD
TZOFFSETFROM:-0400
TZOFFSETTO:-0500
TZNAME:EST
DTSTART:20211107T060000
END:STANDARD
END:VTIMEZONE
BEGIN:VEVENT
DTSTART;TZID=America/New_York:20211105T200000
DTEND;TZID=America/New_York:20211105T230000
DTSTAMP:20260421T214732
CREATED:20211101T190826Z
LAST-MODIFIED:20211101T190826Z
UID:10004337-1636142400-1636153200@raleighmasjid.org
SUMMARY:Levels of Tilawah: A Night of Qur'an and Qiyaam
DESCRIPTION:The IAR is delighted to announce the 4th Edition of “Levels of Tilawah: A Night of Qur’an & Qiyaam” featuring world-renowned Qari’ Sh. Hassan Saleh along with Sh. Hoosain Dalvi and Sh. Mohamed Badawy this Friday\, Nov. 5\, at 8 PM!
URL:https://raleighmasjid.org/event/levels-of-tilawah-a-night-of-quran-and-qiyaam/
LOCATION:Islamic Association of Raleigh\, 808 Atwater St\, Raleigh\, NC\, 27607\, United States
CATEGORIES:Community
ATTACH;FMTTYPE=image/png:https://raleighmasjid.org/wp-content/uploads/2021/11/Webp.net-resizeimage.png
END:VEVENT
BEGIN:VEVENT
DTSTART;TZID=America/New_York:20211111T193000
DTEND;TZID=America/New_York:20211111T203000
DTSTAMP:20260421T214732
CREATED:20211111T185629Z
LAST-MODIFIED:20221006T012847Z
UID:10004324-1636659000-1636662600@raleighmasjid.org
SUMMARY:Islam 201: Islamic Concepts and Contemporary Issues
DESCRIPTION:The community is invited to gather at the IAR every Thursday after Isha for an informational session on pressing issues our Ummah faces today and how they tie in with the core teachings of Islam.
URL:https://raleighmasjid.org/event/islam-201-islamic-concepts-and-contemporary-issues/2021-11-11/
LOCATION:Islamic Association of Raleigh\, 808 Atwater St\, Raleigh\, NC\, 27607\, United States
CATEGORIES:Community,Religious
ATTACH;FMTTYPE=image/jpeg:https://raleighmasjid.org/wp-content/uploads/2021/11/Islam-201-updated.jpg
END:VEVENT
BEGIN:VEVENT
DTSTART;TZID=America/New_York:20211118T193000
DTEND;TZID=America/New_York:20211118T203000
DTSTAMP:20260421T214732
CREATED:20211111T185629Z
LAST-MODIFIED:20221006T012847Z
UID:10004325-1637263800-1637267400@raleighmasjid.org
SUMMARY:Islam 201: Islamic Concepts and Contemporary Issues
DESCRIPTION:The community is invited to gather at the IAR every Thursday after Isha for an informational session on pressing issues our Ummah faces today and how they tie in with the core teachings of Islam.
URL:https://raleighmasjid.org/event/islam-201-islamic-concepts-and-contemporary-issues/2021-11-18/
LOCATION:Islamic Association of Raleigh\, 808 Atwater St\, Raleigh\, NC\, 27607\, United States
CATEGORIES:Community,Religious
ATTACH;FMTTYPE=image/jpeg:https://raleighmasjid.org/wp-content/uploads/2021/11/Islam-201-updated.jpg
END:VEVENT
BEGIN:VEVENT
DTSTART;TZID=America/New_York:20211125T193000
DTEND;TZID=America/New_York:20211125T203000
DTSTAMP:20260421T214732
CREATED:20211111T185629Z
LAST-MODIFIED:20221006T012847Z
UID:10004326-1637868600-1637872200@raleighmasjid.org
SUMMARY:Islam 201: Islamic Concepts and Contemporary Issues
DESCRIPTION:The community is invited to gather at the IAR every Thursday after Isha for an informational session on pressing issues our Ummah faces today and how they tie in with the core teachings of Islam.
URL:https://raleighmasjid.org/event/islam-201-islamic-concepts-and-contemporary-issues/2021-11-25/
LOCATION:Islamic Association of Raleigh\, 808 Atwater St\, Raleigh\, NC\, 27607\, United States
CATEGORIES:Community,Religious
ATTACH;FMTTYPE=image/jpeg:https://raleighmasjid.org/wp-content/uploads/2021/11/Islam-201-updated.jpg
END:VEVENT
END:VCALENDAR