BEGIN:VCALENDAR
VERSION:2.0
PRODID:-//Islamic Association of Raleigh - ECPv6.2.9//NONSGML v1.0//EN
CALSCALE:GREGORIAN
METHOD:PUBLISH
X-ORIGINAL-URL:https://raleighmasjid.org
X-WR-CALDESC:Events for Islamic Association of Raleigh
REFRESH-INTERVAL;VALUE=DURATION:PT1H
X-Robots-Tag:noindex
X-PUBLISHED-TTL:PT1H
BEGIN:VTIMEZONE
TZID:America/New_York
BEGIN:DAYLIGHT
TZOFFSETFROM:-0500
TZOFFSETTO:-0400
TZNAME:EDT
DTSTART:20210314T070000
END:DAYLIGHT
BEGIN:STANDARD
TZOFFSETFROM:-0400
TZOFFSETTO:-0500
TZNAME:EST
DTSTART:20211107T060000
END:STANDARD
END:VTIMEZONE
BEGIN:VEVENT
DTSTART;TZID=America/New_York:20210903T200000
DTEND;TZID=America/New_York:20210903T220000
DTSTAMP:20260423T212559
CREATED:20210830T213758Z
LAST-MODIFIED:20210916T171824Z
UID:10004361-1630699200-1630706400@raleighmasjid.org
SUMMARY:Muslim IT Professionals Conference
DESCRIPTION:Calling all IT professionals! IAR will be hosting a conference on September 3rd for anyone in the IT industry or aspiring to be in the industry. Join us to hear from fellow professionals and network. Sign up at forms.gle/ED7GXb6qJC8HmBL37.
URL:https://raleighmasjid.org/event/muslim-it-professionals-conference/
LOCATION:Islamic Association of Raleigh\, 808 Atwater St\, Raleigh\, NC\, 27607\, United States
CATEGORIES:Community,Volunteer & Engagement
ATTACH;FMTTYPE=image/png:https://raleighmasjid.org/wp-content/uploads/2021/08/Muslim-IT-Conf.png
END:VEVENT
BEGIN:VEVENT
DTSTART;TZID=America/New_York:20210918T080000
DTEND;TZID=America/New_York:20210918T120000
DTSTAMP:20260423T212559
CREATED:20210903T184507Z
LAST-MODIFIED:20210916T171758Z
UID:10004363-1631952000-1631966400@raleighmasjid.org
SUMMARY:Mindfulness Walk: Joy of Missing Out
DESCRIPTION:Want to curb your anxiety? Tired of being stuck inside? \nJOMO is the emotionally intelligent antidote to FOMO: being present and content with where you are in life. Join us for this Nature Walk featuring Br. Wadud Hassan\, Muslim Mindfulness Expert. \nRegister 
URL:https://raleighmasjid.org/event/mindfulness-walk-joy-of-missing-out/
LOCATION:Umstead Park\, 2100 N Harrison Ave\, Cary\, NC\, 27513\, United States
CATEGORIES:Community
ATTACH;FMTTYPE=image/png:https://raleighmasjid.org/wp-content/uploads/2021/08/Mindfulness-Nature-Walk-2.png
END:VEVENT
BEGIN:VEVENT
DTSTART;TZID=America/New_York:20210924T130000
DTEND;TZID=America/New_York:20210924T200000
DTSTAMP:20260423T212559
CREATED:20210916T172930Z
LAST-MODIFIED:20210924T172605Z
UID:10004360-1632488400-1632513600@raleighmasjid.org
SUMMARY:Siraj Wahaj: Success through Steadfastness
DESCRIPTION:Your masjid is delighted to host Imam Siraj Wahaj for an exciting weekend surrounding the theme “Success through Steadfastness.” \n\n\n\n\n\n\n\nFriday\, September 24th\n\n1 PM: Jumuah Khutbah\n7 PM: Friday Night Program
URL:https://raleighmasjid.org/event/siraj-wahaj-success-through-steadfastness/
LOCATION:Islamic Association of Raleigh\, 808 Atwater St\, Raleigh\, NC\, 27607\, United States
CATEGORIES:Community
ATTACH;FMTTYPE=image/webp:https://raleighmasjid.org/wp-content/uploads/2021/09/938222F0-B468-48FE-8089-708107A02122.webp
END:VEVENT
END:VCALENDAR