BEGIN:VCALENDAR
VERSION:2.0
PRODID:-//Islamic Association of Raleigh - ECPv6.2.9//NONSGML v1.0//EN
CALSCALE:GREGORIAN
METHOD:PUBLISH
X-ORIGINAL-URL:https://raleighmasjid.org
X-WR-CALDESC:Events for Islamic Association of Raleigh
REFRESH-INTERVAL;VALUE=DURATION:PT1H
X-Robots-Tag:noindex
X-PUBLISHED-TTL:PT1H
BEGIN:VTIMEZONE
TZID:America/New_York
BEGIN:DAYLIGHT
TZOFFSETFROM:-0500
TZOFFSETTO:-0400
TZNAME:EDT
DTSTART:20240310T070000
END:DAYLIGHT
BEGIN:STANDARD
TZOFFSETFROM:-0400
TZOFFSETTO:-0500
TZNAME:EST
DTSTART:20241103T060000
END:STANDARD
END:VTIMEZONE
BEGIN:VEVENT
DTSTART;TZID=America/New_York:20240205T183000
DTEND;TZID=America/New_York:20240205T203000
DTSTAMP:20260420T190247
CREATED:20240112T033344Z
LAST-MODIFIED:20240112T033641Z
UID:10007353-1707157800-1707165000@raleighmasjid.org
SUMMARY:Sister's Support Group
DESCRIPTION:The Islamic Association of Raleigh’s Health and Wellness Team is proud to bring you a new support group designed for women ages 25-35. The groups will be facilitated by licensed Muslim therapists and will include much needed discussions on various topics we all struggle with. Come prepared to hear and share stories and find support and strength in each other!
URL:https://raleighmasjid.org/event/sisters-support-group/
LOCATION:Islamic Association of Raleigh\, 808 Atwater St\, Raleigh\, NC\, 27607\, United States
ATTACH;FMTTYPE=image/jpeg:https://raleighmasjid.org/wp-content/uploads/2024/01/418934828_897897632339792_3772486292757283451_n.jpg
END:VEVENT
BEGIN:VEVENT
DTSTART;TZID=America/New_York:20240205T193000
DTEND;TZID=America/New_York:20240205T213000
DTSTAMP:20260420T190247
CREATED:20220907T211056Z
LAST-MODIFIED:20230117T191513Z
UID:10004070-1707161400-1707168600@raleighmasjid.org
SUMMARY:Hifdh Halaqah
DESCRIPTION:Brothers and sisters are welcome to join the weekly Hifdh Halaqah to assist with Qur’an memorization every Monday after Isha!
URL:https://raleighmasjid.org/event/hifdh-halaqah/2024-02-05/
LOCATION:Islamic Association of Raleigh\, 808 Atwater St\, Raleigh\, NC\, 27607\, United States
CATEGORIES:Community,Elders,Religious
ATTACH;FMTTYPE=image/jpeg:https://raleighmasjid.org/wp-content/uploads/2022/09/hifdh-halaqah-winter-timing-updated.jpg
END:VEVENT
END:VCALENDAR