BEGIN:VCALENDAR
VERSION:2.0
PRODID:-//Islamic Association of Raleigh - ECPv6.2.9//NONSGML v1.0//EN
CALSCALE:GREGORIAN
METHOD:PUBLISH
X-WR-CALNAME:Islamic Association of Raleigh
X-ORIGINAL-URL:https://raleighmasjid.org
X-WR-CALDESC:Events for Islamic Association of Raleigh
REFRESH-INTERVAL;VALUE=DURATION:PT1H
X-Robots-Tag:noindex
X-PUBLISHED-TTL:PT1H
BEGIN:VTIMEZONE
TZID:America/New_York
BEGIN:DAYLIGHT
TZOFFSETFROM:-0500
TZOFFSETTO:-0400
TZNAME:EDT
DTSTART:20220313T070000
END:DAYLIGHT
BEGIN:STANDARD
TZOFFSETFROM:-0400
TZOFFSETTO:-0500
TZNAME:EST
DTSTART:20221106T060000
END:STANDARD
END:VTIMEZONE
BEGIN:VEVENT
DTSTART;TZID=America/New_York:20221118T193000
DTEND;TZID=America/New_York:20221118T210000
DTSTAMP:20260424T150713
CREATED:20221022T003515Z
LAST-MODIFIED:20221115T144616Z
UID:10004957-1668799800-1668805200@raleighmasjid.org
SUMMARY:General Body Meeting
DESCRIPTION:Your masjid will hold an annual general body meeting after Isha on Friday\, November 18th. This meeting will be held at IAR with presentations on financials as well as masjid accomplishments and plans. We look forward to community participation and want to hear from you! \n \n \n 		\n					\n							\n										In-person\n									\n								\n										Live on Youtube\n									\n						\n																										\n				RSVP Form
URL:https://raleighmasjid.org/event/general-body-meeting/
LOCATION:Islamic Association of Raleigh\, 808 Atwater St\, Raleigh\, NC\, 27607\, United States
END:VEVENT
END:VCALENDAR